BEGIN:VCALENDAR
VERSION:2.0
PRODID:-//Shaw Air Force Base - ECPv6.15.20//NONSGML v1.0//EN
CALSCALE:GREGORIAN
METHOD:PUBLISH
X-WR-CALNAME:Shaw Air Force Base
X-ORIGINAL-URL:https://shaw20fss.com
X-WR-CALDESC:Events for Shaw Air Force Base
REFRESH-INTERVAL;VALUE=DURATION:PT1H
X-Robots-Tag:noindex
X-PUBLISHED-TTL:PT1H
BEGIN:VTIMEZONE
TZID:UTC
BEGIN:STANDARD
TZOFFSETFROM:+0000
TZOFFSETTO:+0000
TZNAME:UTC
DTSTART:20240101T000000
END:STANDARD
END:VTIMEZONE
BEGIN:VEVENT
DTSTART;TZID=UTC:20250506T130000
DTEND;TZID=UTC:20251116T170000
DTSTAMP:20260421T142633
CREATED:20250507T162918Z
LAST-MODIFIED:20250507T162918Z
UID:10013072-1746536400-1763312400@shaw20fss.com
SUMMARY:The Wateree Retreat
DESCRIPTION:Event Description:\nThe Wateree Retreat is calling…\nWake up to quiet mornings\, gather around warm campfires\, and enjoy the slower pace of life by the lake.\nAt Wateree Recreation Area\, all of this is yours to experience. \nWhether it’s a peaceful weekend or a full week of escape\, your next adventure is only a phone call away. \n🏞️ Camper + Site Rates:\n• $65 per night\n• $120 for the weekend\n• $450 for the week \n📞 Call 803-900-0334 to reserve your spot today.
URL:https://shaw20fss.com/event/the-wateree-retreat/
LOCATION:Wateree Recreation Area\, 2030 Baron Dekalb Rd\, Camden\, SC\, 29020\, United States
CATEGORIES:Wateree
ATTACH;FMTTYPE=image/png:https://shaw20fss.com/wp-content/uploads/2025/05/eb1cad33350f979cfce05d68f955c5af.png
END:VEVENT
BEGIN:VEVENT
DTSTART;TZID=UTC:20251101T173000
DTEND;TZID=UTC:20251101T193000
DTSTAMP:20260421T142633
CREATED:20241205T192818Z
LAST-MODIFIED:20241205T192818Z
UID:10012357-1762018200-1762025400@shaw20fss.com
SUMMARY:Bowling & a Movie
DESCRIPTION:Join the Shaw Lanes Bowling Center for bowling & a movie – holiday season!\nBring the whole family and enjoy a classic holiday film while bowling for a complete day of fun. \nMovie Schedule: \n\nDec 7: Scrooge: a Christmas Carol\nDec 14: The Grinch\nDec 21: Klaus\nDec 28: The Garfield Movie
URL:https://shaw20fss.com/event/bowling-a-movie-2/2025-11-01/
LOCATION:SC
CATEGORIES:Bowling
ATTACH;FMTTYPE=image/png:https://shaw20fss.com/wp-content/uploads/2024/12/SL_BowlingaMovie_2024-reduced536.png
END:VEVENT
BEGIN:VEVENT
DTSTART;TZID=UTC:20251102T140000
DTEND;TZID=UTC:20251102T170000
DTSTAMP:20260421T142633
CREATED:20250303T200459Z
LAST-MODIFIED:20250303T200459Z
UID:10012824-1762092000-1762102800@shaw20fss.com
SUMMARY:Bowling & a Movie
DESCRIPTION:Join Shaw Lanes Bowling Center every Sunday in March from 2-5 PM for Bowling & a Movie\, a fun-filled afternoon of bowling and a movie! \nEach week features a different movie: \n\nMarch 2 – Wallace & Gromit: Vengeance Most Fowl (PG)\nMarch 9 – Sonic the Hedgehog 3 (PG)\nMarch 16 – Song of the Sea (PG)\nMarch 23 – Dune Pt. 2 (PG-13)\nMarch 30 – Who Framed Roger Rabbit (PG) (Classic Kid Movie Series)\n\nPrices may vary depending on the menu. \nFor more info\, call Shaw Lanes Bowling Center 803.895.2732. Don’t miss out on this perfect Sunday activity!
URL:https://shaw20fss.com/event/bowling-a-movie-4/2025-11-02/
LOCATION:Shaw Lanes Bowling Center\, 416 Recreation St.\, Shaw Air Force Base\, SC\, 29152\, United States
CATEGORIES:Bowling
ATTACH;FMTTYPE=image/png:https://shaw20fss.com/wp-content/uploads/2025/03/031ca152a89e274462f97cd55337a308.png
END:VEVENT
BEGIN:VEVENT
DTSTART;TZID=UTC:20251108T173000
DTEND;TZID=UTC:20251108T193000
DTSTAMP:20260421T142633
CREATED:20241205T192818Z
LAST-MODIFIED:20241205T192818Z
UID:10012358-1762623000-1762630200@shaw20fss.com
SUMMARY:Bowling & a Movie
DESCRIPTION:Join the Shaw Lanes Bowling Center for bowling & a movie – holiday season!\nBring the whole family and enjoy a classic holiday film while bowling for a complete day of fun. \nMovie Schedule: \n\nDec 7: Scrooge: a Christmas Carol\nDec 14: The Grinch\nDec 21: Klaus\nDec 28: The Garfield Movie
URL:https://shaw20fss.com/event/bowling-a-movie-2/2025-11-08/
LOCATION:SC
CATEGORIES:Bowling
ATTACH;FMTTYPE=image/png:https://shaw20fss.com/wp-content/uploads/2024/12/SL_BowlingaMovie_2024-reduced536.png
END:VEVENT
BEGIN:VEVENT
DTSTART;TZID=UTC:20251109T140000
DTEND;TZID=UTC:20251109T170000
DTSTAMP:20260421T142633
CREATED:20250303T200459Z
LAST-MODIFIED:20250303T200459Z
UID:10012825-1762696800-1762707600@shaw20fss.com
SUMMARY:Bowling & a Movie
DESCRIPTION:Join Shaw Lanes Bowling Center every Sunday in March from 2-5 PM for Bowling & a Movie\, a fun-filled afternoon of bowling and a movie! \nEach week features a different movie: \n\nMarch 2 – Wallace & Gromit: Vengeance Most Fowl (PG)\nMarch 9 – Sonic the Hedgehog 3 (PG)\nMarch 16 – Song of the Sea (PG)\nMarch 23 – Dune Pt. 2 (PG-13)\nMarch 30 – Who Framed Roger Rabbit (PG) (Classic Kid Movie Series)\n\nPrices may vary depending on the menu. \nFor more info\, call Shaw Lanes Bowling Center 803.895.2732. Don’t miss out on this perfect Sunday activity!
URL:https://shaw20fss.com/event/bowling-a-movie-4/2025-11-09/
LOCATION:Shaw Lanes Bowling Center\, 416 Recreation St.\, Shaw Air Force Base\, SC\, 29152\, United States
CATEGORIES:Bowling
ATTACH;FMTTYPE=image/png:https://shaw20fss.com/wp-content/uploads/2025/03/031ca152a89e274462f97cd55337a308.png
END:VEVENT
BEGIN:VEVENT
DTSTART;TZID=UTC:20251115T173000
DTEND;TZID=UTC:20251115T193000
DTSTAMP:20260421T142633
CREATED:20241205T192818Z
LAST-MODIFIED:20241205T192818Z
UID:10012359-1763227800-1763235000@shaw20fss.com
SUMMARY:Bowling & a Movie
DESCRIPTION:Join the Shaw Lanes Bowling Center for bowling & a movie – holiday season!\nBring the whole family and enjoy a classic holiday film while bowling for a complete day of fun. \nMovie Schedule: \n\nDec 7: Scrooge: a Christmas Carol\nDec 14: The Grinch\nDec 21: Klaus\nDec 28: The Garfield Movie
URL:https://shaw20fss.com/event/bowling-a-movie-2/2025-11-15/
LOCATION:SC
CATEGORIES:Bowling
ATTACH;FMTTYPE=image/png:https://shaw20fss.com/wp-content/uploads/2024/12/SL_BowlingaMovie_2024-reduced536.png
END:VEVENT
BEGIN:VEVENT
DTSTART;TZID=UTC:20251116T110000
DTEND;TZID=UTC:20251116T120000
DTSTAMP:20260421T142633
CREATED:20250507T175126Z
LAST-MODIFIED:20250507T175126Z
UID:10013086-1763290800-1763294400@shaw20fss.com
SUMMARY:Saturday Story Time
DESCRIPTION:Saturday Story Time\nLocation: McElveen Library\nWhen: Every 3rd Saturday of the month | 11:00 AM – 12:00 PMPerfect for Ages: 2–6 \nBring the little ones and join us for Saturday Story Time at McElveen Library! Enjoy stories\, songs\, and early literacy fun designed for young children and their families. \nNo registration needed—just drop in! \nFor more information\, call 803.895.4518.
URL:https://shaw20fss.com/event/saturday-story-time-3/2025-11-16/
LOCATION:McElveen Library\, Shaw Air Force Base\, SC\, 29152\, United States
CATEGORIES:Library
ATTACH;FMTTYPE=image/png:https://shaw20fss.com/wp-content/uploads/2025/05/Monthly-Reduced851.png
END:VEVENT
BEGIN:VEVENT
DTSTART;TZID=UTC:20251116T140000
DTEND;TZID=UTC:20251116T170000
DTSTAMP:20260421T142633
CREATED:20250303T200459Z
LAST-MODIFIED:20250303T200459Z
UID:10012826-1763301600-1763312400@shaw20fss.com
SUMMARY:Bowling & a Movie
DESCRIPTION:Join Shaw Lanes Bowling Center every Sunday in March from 2-5 PM for Bowling & a Movie\, a fun-filled afternoon of bowling and a movie! \nEach week features a different movie: \n\nMarch 2 – Wallace & Gromit: Vengeance Most Fowl (PG)\nMarch 9 – Sonic the Hedgehog 3 (PG)\nMarch 16 – Song of the Sea (PG)\nMarch 23 – Dune Pt. 2 (PG-13)\nMarch 30 – Who Framed Roger Rabbit (PG) (Classic Kid Movie Series)\n\nPrices may vary depending on the menu. \nFor more info\, call Shaw Lanes Bowling Center 803.895.2732. Don’t miss out on this perfect Sunday activity!
URL:https://shaw20fss.com/event/bowling-a-movie-4/2025-11-16/
LOCATION:Shaw Lanes Bowling Center\, 416 Recreation St.\, Shaw Air Force Base\, SC\, 29152\, United States
CATEGORIES:Bowling
ATTACH;FMTTYPE=image/png:https://shaw20fss.com/wp-content/uploads/2025/03/031ca152a89e274462f97cd55337a308.png
END:VEVENT
BEGIN:VEVENT
DTSTART;TZID=UTC:20251122T173000
DTEND;TZID=UTC:20251122T193000
DTSTAMP:20260421T142633
CREATED:20241205T192818Z
LAST-MODIFIED:20241205T192818Z
UID:10012360-1763832600-1763839800@shaw20fss.com
SUMMARY:Bowling & a Movie
DESCRIPTION:Join the Shaw Lanes Bowling Center for bowling & a movie – holiday season!\nBring the whole family and enjoy a classic holiday film while bowling for a complete day of fun. \nMovie Schedule: \n\nDec 7: Scrooge: a Christmas Carol\nDec 14: The Grinch\nDec 21: Klaus\nDec 28: The Garfield Movie
URL:https://shaw20fss.com/event/bowling-a-movie-2/2025-11-22/
LOCATION:SC
CATEGORIES:Bowling
ATTACH;FMTTYPE=image/png:https://shaw20fss.com/wp-content/uploads/2024/12/SL_BowlingaMovie_2024-reduced536.png
END:VEVENT
BEGIN:VEVENT
DTSTART;TZID=UTC:20251123T140000
DTEND;TZID=UTC:20251123T170000
DTSTAMP:20260421T142633
CREATED:20250303T200459Z
LAST-MODIFIED:20250303T200459Z
UID:10012827-1763906400-1763917200@shaw20fss.com
SUMMARY:Bowling & a Movie
DESCRIPTION:Join Shaw Lanes Bowling Center every Sunday in March from 2-5 PM for Bowling & a Movie\, a fun-filled afternoon of bowling and a movie! \nEach week features a different movie: \n\nMarch 2 – Wallace & Gromit: Vengeance Most Fowl (PG)\nMarch 9 – Sonic the Hedgehog 3 (PG)\nMarch 16 – Song of the Sea (PG)\nMarch 23 – Dune Pt. 2 (PG-13)\nMarch 30 – Who Framed Roger Rabbit (PG) (Classic Kid Movie Series)\n\nPrices may vary depending on the menu. \nFor more info\, call Shaw Lanes Bowling Center 803.895.2732. Don’t miss out on this perfect Sunday activity!
URL:https://shaw20fss.com/event/bowling-a-movie-4/2025-11-23/
LOCATION:Shaw Lanes Bowling Center\, 416 Recreation St.\, Shaw Air Force Base\, SC\, 29152\, United States
CATEGORIES:Bowling
ATTACH;FMTTYPE=image/png:https://shaw20fss.com/wp-content/uploads/2025/03/031ca152a89e274462f97cd55337a308.png
END:VEVENT
BEGIN:VEVENT
DTSTART;TZID=UTC:20251129T173000
DTEND;TZID=UTC:20251129T193000
DTSTAMP:20260421T142633
CREATED:20241205T192818Z
LAST-MODIFIED:20241205T192818Z
UID:10012361-1764437400-1764444600@shaw20fss.com
SUMMARY:Bowling & a Movie
DESCRIPTION:Join the Shaw Lanes Bowling Center for bowling & a movie – holiday season!\nBring the whole family and enjoy a classic holiday film while bowling for a complete day of fun. \nMovie Schedule: \n\nDec 7: Scrooge: a Christmas Carol\nDec 14: The Grinch\nDec 21: Klaus\nDec 28: The Garfield Movie
URL:https://shaw20fss.com/event/bowling-a-movie-2/2025-11-29/
LOCATION:SC
CATEGORIES:Bowling
ATTACH;FMTTYPE=image/png:https://shaw20fss.com/wp-content/uploads/2024/12/SL_BowlingaMovie_2024-reduced536.png
END:VEVENT
BEGIN:VEVENT
DTSTART;TZID=UTC:20251130T140000
DTEND;TZID=UTC:20251130T170000
DTSTAMP:20260421T142633
CREATED:20250303T200459Z
LAST-MODIFIED:20250303T200459Z
UID:10012828-1764511200-1764522000@shaw20fss.com
SUMMARY:Bowling & a Movie
DESCRIPTION:Join Shaw Lanes Bowling Center every Sunday in March from 2-5 PM for Bowling & a Movie\, a fun-filled afternoon of bowling and a movie! \nEach week features a different movie: \n\nMarch 2 – Wallace & Gromit: Vengeance Most Fowl (PG)\nMarch 9 – Sonic the Hedgehog 3 (PG)\nMarch 16 – Song of the Sea (PG)\nMarch 23 – Dune Pt. 2 (PG-13)\nMarch 30 – Who Framed Roger Rabbit (PG) (Classic Kid Movie Series)\n\nPrices may vary depending on the menu. \nFor more info\, call Shaw Lanes Bowling Center 803.895.2732. Don’t miss out on this perfect Sunday activity!
URL:https://shaw20fss.com/event/bowling-a-movie-4/2025-11-30/
LOCATION:Shaw Lanes Bowling Center\, 416 Recreation St.\, Shaw Air Force Base\, SC\, 29152\, United States
CATEGORIES:Bowling
ATTACH;FMTTYPE=image/png:https://shaw20fss.com/wp-content/uploads/2025/03/031ca152a89e274462f97cd55337a308.png
END:VEVENT
END:VCALENDAR