BEGIN:VCALENDAR
VERSION:2.0
PRODID:-//Shaw Air Force Base - ECPv6.15.20//NONSGML v1.0//EN
CALSCALE:GREGORIAN
METHOD:PUBLISH
X-WR-CALNAME:Shaw Air Force Base
X-ORIGINAL-URL:https://shaw20fss.com
X-WR-CALDESC:Events for Shaw Air Force Base
REFRESH-INTERVAL;VALUE=DURATION:PT1H
X-Robots-Tag:noindex
X-PUBLISHED-TTL:PT1H
BEGIN:VTIMEZONE
TZID:UTC
BEGIN:STANDARD
TZOFFSETFROM:+0000
TZOFFSETTO:+0000
TZNAME:UTC
DTSTART:20240101T000000
END:STANDARD
END:VTIMEZONE
BEGIN:VEVENT
DTSTART;TZID=UTC:20251206T173000
DTEND;TZID=UTC:20251206T193000
DTSTAMP:20260421T124905
CREATED:20241205T192818Z
LAST-MODIFIED:20241205T192818Z
UID:10012362-1765042200-1765049400@shaw20fss.com
SUMMARY:Bowling & a Movie
DESCRIPTION:Join the Shaw Lanes Bowling Center for bowling & a movie – holiday season!\nBring the whole family and enjoy a classic holiday film while bowling for a complete day of fun. \nMovie Schedule: \n\nDec 7: Scrooge: a Christmas Carol\nDec 14: The Grinch\nDec 21: Klaus\nDec 28: The Garfield Movie
URL:https://shaw20fss.com/event/bowling-a-movie-2/2025-12-06/
LOCATION:SC
CATEGORIES:Bowling
ATTACH;FMTTYPE=image/png:https://shaw20fss.com/wp-content/uploads/2024/12/SL_BowlingaMovie_2024-reduced536.png
END:VEVENT
BEGIN:VEVENT
DTSTART;TZID=UTC:20251207T140000
DTEND;TZID=UTC:20251207T170000
DTSTAMP:20260421T124905
CREATED:20250303T200459Z
LAST-MODIFIED:20250303T200459Z
UID:10012829-1765116000-1765126800@shaw20fss.com
SUMMARY:Bowling & a Movie
DESCRIPTION:Join Shaw Lanes Bowling Center every Sunday in March from 2-5 PM for Bowling & a Movie\, a fun-filled afternoon of bowling and a movie! \nEach week features a different movie: \n\nMarch 2 – Wallace & Gromit: Vengeance Most Fowl (PG)\nMarch 9 – Sonic the Hedgehog 3 (PG)\nMarch 16 – Song of the Sea (PG)\nMarch 23 – Dune Pt. 2 (PG-13)\nMarch 30 – Who Framed Roger Rabbit (PG) (Classic Kid Movie Series)\n\nPrices may vary depending on the menu. \nFor more info\, call Shaw Lanes Bowling Center 803.895.2732. Don’t miss out on this perfect Sunday activity!
URL:https://shaw20fss.com/event/bowling-a-movie-4/2025-12-07/
LOCATION:Shaw Lanes Bowling Center\, 416 Recreation St.\, Shaw Air Force Base\, SC\, 29152\, United States
CATEGORIES:Bowling
ATTACH;FMTTYPE=image/png:https://shaw20fss.com/wp-content/uploads/2025/03/031ca152a89e274462f97cd55337a308.png
END:VEVENT
BEGIN:VEVENT
DTSTART;TZID=UTC:20251213T173000
DTEND;TZID=UTC:20251213T193000
DTSTAMP:20260421T124905
CREATED:20241205T192818Z
LAST-MODIFIED:20241205T192818Z
UID:10012363-1765647000-1765654200@shaw20fss.com
SUMMARY:Bowling & a Movie
DESCRIPTION:Join the Shaw Lanes Bowling Center for bowling & a movie – holiday season!\nBring the whole family and enjoy a classic holiday film while bowling for a complete day of fun. \nMovie Schedule: \n\nDec 7: Scrooge: a Christmas Carol\nDec 14: The Grinch\nDec 21: Klaus\nDec 28: The Garfield Movie
URL:https://shaw20fss.com/event/bowling-a-movie-2/2025-12-13/
LOCATION:SC
CATEGORIES:Bowling
ATTACH;FMTTYPE=image/png:https://shaw20fss.com/wp-content/uploads/2024/12/SL_BowlingaMovie_2024-reduced536.png
END:VEVENT
BEGIN:VEVENT
DTSTART;TZID=UTC:20251214T140000
DTEND;TZID=UTC:20251214T170000
DTSTAMP:20260421T124905
CREATED:20250303T200459Z
LAST-MODIFIED:20250303T200459Z
UID:10012830-1765720800-1765731600@shaw20fss.com
SUMMARY:Bowling & a Movie
DESCRIPTION:Join Shaw Lanes Bowling Center every Sunday in March from 2-5 PM for Bowling & a Movie\, a fun-filled afternoon of bowling and a movie! \nEach week features a different movie: \n\nMarch 2 – Wallace & Gromit: Vengeance Most Fowl (PG)\nMarch 9 – Sonic the Hedgehog 3 (PG)\nMarch 16 – Song of the Sea (PG)\nMarch 23 – Dune Pt. 2 (PG-13)\nMarch 30 – Who Framed Roger Rabbit (PG) (Classic Kid Movie Series)\n\nPrices may vary depending on the menu. \nFor more info\, call Shaw Lanes Bowling Center 803.895.2732. Don’t miss out on this perfect Sunday activity!
URL:https://shaw20fss.com/event/bowling-a-movie-4/2025-12-14/
LOCATION:Shaw Lanes Bowling Center\, 416 Recreation St.\, Shaw Air Force Base\, SC\, 29152\, United States
CATEGORIES:Bowling
ATTACH;FMTTYPE=image/png:https://shaw20fss.com/wp-content/uploads/2025/03/031ca152a89e274462f97cd55337a308.png
END:VEVENT
BEGIN:VEVENT
DTSTART;TZID=UTC:20251220T173000
DTEND;TZID=UTC:20251220T193000
DTSTAMP:20260421T124905
CREATED:20241205T192818Z
LAST-MODIFIED:20241205T192818Z
UID:10012364-1766251800-1766259000@shaw20fss.com
SUMMARY:Bowling & a Movie
DESCRIPTION:Join the Shaw Lanes Bowling Center for bowling & a movie – holiday season!\nBring the whole family and enjoy a classic holiday film while bowling for a complete day of fun. \nMovie Schedule: \n\nDec 7: Scrooge: a Christmas Carol\nDec 14: The Grinch\nDec 21: Klaus\nDec 28: The Garfield Movie
URL:https://shaw20fss.com/event/bowling-a-movie-2/2025-12-20/
LOCATION:SC
CATEGORIES:Bowling
ATTACH;FMTTYPE=image/png:https://shaw20fss.com/wp-content/uploads/2024/12/SL_BowlingaMovie_2024-reduced536.png
END:VEVENT
BEGIN:VEVENT
DTSTART;TZID=UTC:20251221T110000
DTEND;TZID=UTC:20251221T120000
DTSTAMP:20260421T124905
CREATED:20250507T175126Z
LAST-MODIFIED:20250507T175126Z
UID:10013087-1766314800-1766318400@shaw20fss.com
SUMMARY:Saturday Story Time
DESCRIPTION:Saturday Story Time\nLocation: McElveen Library\nWhen: Every 3rd Saturday of the month | 11:00 AM – 12:00 PMPerfect for Ages: 2–6 \nBring the little ones and join us for Saturday Story Time at McElveen Library! Enjoy stories\, songs\, and early literacy fun designed for young children and their families. \nNo registration needed—just drop in! \nFor more information\, call 803.895.4518.
URL:https://shaw20fss.com/event/saturday-story-time-3/2025-12-21/
LOCATION:McElveen Library\, Shaw Air Force Base\, SC\, 29152\, United States
CATEGORIES:Library
ATTACH;FMTTYPE=image/png:https://shaw20fss.com/wp-content/uploads/2025/05/Monthly-Reduced851.png
END:VEVENT
BEGIN:VEVENT
DTSTART;TZID=UTC:20251221T140000
DTEND;TZID=UTC:20251221T170000
DTSTAMP:20260421T124905
CREATED:20250303T200459Z
LAST-MODIFIED:20250303T200459Z
UID:10012831-1766325600-1766336400@shaw20fss.com
SUMMARY:Bowling & a Movie
DESCRIPTION:Join Shaw Lanes Bowling Center every Sunday in March from 2-5 PM for Bowling & a Movie\, a fun-filled afternoon of bowling and a movie! \nEach week features a different movie: \n\nMarch 2 – Wallace & Gromit: Vengeance Most Fowl (PG)\nMarch 9 – Sonic the Hedgehog 3 (PG)\nMarch 16 – Song of the Sea (PG)\nMarch 23 – Dune Pt. 2 (PG-13)\nMarch 30 – Who Framed Roger Rabbit (PG) (Classic Kid Movie Series)\n\nPrices may vary depending on the menu. \nFor more info\, call Shaw Lanes Bowling Center 803.895.2732. Don’t miss out on this perfect Sunday activity!
URL:https://shaw20fss.com/event/bowling-a-movie-4/2025-12-21/
LOCATION:Shaw Lanes Bowling Center\, 416 Recreation St.\, Shaw Air Force Base\, SC\, 29152\, United States
CATEGORIES:Bowling
ATTACH;FMTTYPE=image/png:https://shaw20fss.com/wp-content/uploads/2025/03/031ca152a89e274462f97cd55337a308.png
END:VEVENT
BEGIN:VEVENT
DTSTART;TZID=UTC:20251227T173000
DTEND;TZID=UTC:20251227T193000
DTSTAMP:20260421T124905
CREATED:20241205T192818Z
LAST-MODIFIED:20241205T192818Z
UID:10012365-1766856600-1766863800@shaw20fss.com
SUMMARY:Bowling & a Movie
DESCRIPTION:Join the Shaw Lanes Bowling Center for bowling & a movie – holiday season!\nBring the whole family and enjoy a classic holiday film while bowling for a complete day of fun. \nMovie Schedule: \n\nDec 7: Scrooge: a Christmas Carol\nDec 14: The Grinch\nDec 21: Klaus\nDec 28: The Garfield Movie
URL:https://shaw20fss.com/event/bowling-a-movie-2/2025-12-27/
LOCATION:SC
CATEGORIES:Bowling
ATTACH;FMTTYPE=image/png:https://shaw20fss.com/wp-content/uploads/2024/12/SL_BowlingaMovie_2024-reduced536.png
END:VEVENT
BEGIN:VEVENT
DTSTART;TZID=UTC:20251228T140000
DTEND;TZID=UTC:20251228T170000
DTSTAMP:20260421T124905
CREATED:20250303T200459Z
LAST-MODIFIED:20250303T200459Z
UID:10012832-1766930400-1766941200@shaw20fss.com
SUMMARY:Bowling & a Movie
DESCRIPTION:Join Shaw Lanes Bowling Center every Sunday in March from 2-5 PM for Bowling & a Movie\, a fun-filled afternoon of bowling and a movie! \nEach week features a different movie: \n\nMarch 2 – Wallace & Gromit: Vengeance Most Fowl (PG)\nMarch 9 – Sonic the Hedgehog 3 (PG)\nMarch 16 – Song of the Sea (PG)\nMarch 23 – Dune Pt. 2 (PG-13)\nMarch 30 – Who Framed Roger Rabbit (PG) (Classic Kid Movie Series)\n\nPrices may vary depending on the menu. \nFor more info\, call Shaw Lanes Bowling Center 803.895.2732. Don’t miss out on this perfect Sunday activity!
URL:https://shaw20fss.com/event/bowling-a-movie-4/2025-12-28/
LOCATION:Shaw Lanes Bowling Center\, 416 Recreation St.\, Shaw Air Force Base\, SC\, 29152\, United States
CATEGORIES:Bowling
ATTACH;FMTTYPE=image/png:https://shaw20fss.com/wp-content/uploads/2025/03/031ca152a89e274462f97cd55337a308.png
END:VEVENT
END:VCALENDAR