BEGIN:VCALENDAR
VERSION:2.0
PRODID:-//Shaw Air Force Base - ECPv6.15.20//NONSGML v1.0//EN
CALSCALE:GREGORIAN
METHOD:PUBLISH
X-ORIGINAL-URL:https://shaw20fss.com
X-WR-CALDESC:Events for Shaw Air Force Base
REFRESH-INTERVAL;VALUE=DURATION:PT1H
X-Robots-Tag:noindex
X-PUBLISHED-TTL:PT1H
BEGIN:VTIMEZONE
TZID:UTC
BEGIN:STANDARD
TZOFFSETFROM:+0000
TZOFFSETTO:+0000
TZNAME:UTC
DTSTART:20250101T000000
END:STANDARD
END:VTIMEZONE
BEGIN:VEVENT
DTSTART;TZID=UTC:20261101T140000
DTEND;TZID=UTC:20261101T170000
DTSTAMP:20260419T173132
CREATED:20250303T200459Z
LAST-MODIFIED:20250303T200459Z
UID:10012876-1793541600-1793552400@shaw20fss.com
SUMMARY:Bowling & a Movie
DESCRIPTION:Join Shaw Lanes Bowling Center every Sunday in March from 2-5 PM for Bowling & a Movie\, a fun-filled afternoon of bowling and a movie! \nEach week features a different movie: \n\nMarch 2 – Wallace & Gromit: Vengeance Most Fowl (PG)\nMarch 9 – Sonic the Hedgehog 3 (PG)\nMarch 16 – Song of the Sea (PG)\nMarch 23 – Dune Pt. 2 (PG-13)\nMarch 30 – Who Framed Roger Rabbit (PG) (Classic Kid Movie Series)\n\nPrices may vary depending on the menu. \nFor more info\, call Shaw Lanes Bowling Center 803.895.2732. Don’t miss out on this perfect Sunday activity!
URL:https://shaw20fss.com/event/bowling-a-movie-4/2026-11-01/
LOCATION:Shaw Lanes Bowling Center\, 416 Recreation St.\, Shaw Air Force Base\, SC\, 29152\, United States
CATEGORIES:Bowling
ATTACH;FMTTYPE=image/png:https://shaw20fss.com/wp-content/uploads/2025/03/031ca152a89e274462f97cd55337a308.png
END:VEVENT
BEGIN:VEVENT
DTSTART;TZID=UTC:20261108T140000
DTEND;TZID=UTC:20261108T170000
DTSTAMP:20260419T173132
CREATED:20250303T200459Z
LAST-MODIFIED:20250303T200459Z
UID:10012877-1794146400-1794157200@shaw20fss.com
SUMMARY:Bowling & a Movie
DESCRIPTION:Join Shaw Lanes Bowling Center every Sunday in March from 2-5 PM for Bowling & a Movie\, a fun-filled afternoon of bowling and a movie! \nEach week features a different movie: \n\nMarch 2 – Wallace & Gromit: Vengeance Most Fowl (PG)\nMarch 9 – Sonic the Hedgehog 3 (PG)\nMarch 16 – Song of the Sea (PG)\nMarch 23 – Dune Pt. 2 (PG-13)\nMarch 30 – Who Framed Roger Rabbit (PG) (Classic Kid Movie Series)\n\nPrices may vary depending on the menu. \nFor more info\, call Shaw Lanes Bowling Center 803.895.2732. Don’t miss out on this perfect Sunday activity!
URL:https://shaw20fss.com/event/bowling-a-movie-4/2026-11-08/
LOCATION:Shaw Lanes Bowling Center\, 416 Recreation St.\, Shaw Air Force Base\, SC\, 29152\, United States
CATEGORIES:Bowling
ATTACH;FMTTYPE=image/png:https://shaw20fss.com/wp-content/uploads/2025/03/031ca152a89e274462f97cd55337a308.png
END:VEVENT
BEGIN:VEVENT
DTSTART;TZID=UTC:20261115T140000
DTEND;TZID=UTC:20261115T170000
DTSTAMP:20260419T173132
CREATED:20250303T200459Z
LAST-MODIFIED:20250303T200459Z
UID:10012878-1794751200-1794762000@shaw20fss.com
SUMMARY:Bowling & a Movie
DESCRIPTION:Join Shaw Lanes Bowling Center every Sunday in March from 2-5 PM for Bowling & a Movie\, a fun-filled afternoon of bowling and a movie! \nEach week features a different movie: \n\nMarch 2 – Wallace & Gromit: Vengeance Most Fowl (PG)\nMarch 9 – Sonic the Hedgehog 3 (PG)\nMarch 16 – Song of the Sea (PG)\nMarch 23 – Dune Pt. 2 (PG-13)\nMarch 30 – Who Framed Roger Rabbit (PG) (Classic Kid Movie Series)\n\nPrices may vary depending on the menu. \nFor more info\, call Shaw Lanes Bowling Center 803.895.2732. Don’t miss out on this perfect Sunday activity!
URL:https://shaw20fss.com/event/bowling-a-movie-4/2026-11-15/
LOCATION:Shaw Lanes Bowling Center\, 416 Recreation St.\, Shaw Air Force Base\, SC\, 29152\, United States
CATEGORIES:Bowling
ATTACH;FMTTYPE=image/png:https://shaw20fss.com/wp-content/uploads/2025/03/031ca152a89e274462f97cd55337a308.png
END:VEVENT
BEGIN:VEVENT
DTSTART;TZID=UTC:20261122T140000
DTEND;TZID=UTC:20261122T170000
DTSTAMP:20260419T173132
CREATED:20250303T200459Z
LAST-MODIFIED:20250303T200459Z
UID:10012879-1795356000-1795366800@shaw20fss.com
SUMMARY:Bowling & a Movie
DESCRIPTION:Join Shaw Lanes Bowling Center every Sunday in March from 2-5 PM for Bowling & a Movie\, a fun-filled afternoon of bowling and a movie! \nEach week features a different movie: \n\nMarch 2 – Wallace & Gromit: Vengeance Most Fowl (PG)\nMarch 9 – Sonic the Hedgehog 3 (PG)\nMarch 16 – Song of the Sea (PG)\nMarch 23 – Dune Pt. 2 (PG-13)\nMarch 30 – Who Framed Roger Rabbit (PG) (Classic Kid Movie Series)\n\nPrices may vary depending on the menu. \nFor more info\, call Shaw Lanes Bowling Center 803.895.2732. Don’t miss out on this perfect Sunday activity!
URL:https://shaw20fss.com/event/bowling-a-movie-4/2026-11-22/
LOCATION:Shaw Lanes Bowling Center\, 416 Recreation St.\, Shaw Air Force Base\, SC\, 29152\, United States
CATEGORIES:Bowling
ATTACH;FMTTYPE=image/png:https://shaw20fss.com/wp-content/uploads/2025/03/031ca152a89e274462f97cd55337a308.png
END:VEVENT
BEGIN:VEVENT
DTSTART;TZID=UTC:20261129T140000
DTEND;TZID=UTC:20261129T170000
DTSTAMP:20260419T173132
CREATED:20250303T200459Z
LAST-MODIFIED:20250303T200459Z
UID:10012880-1795960800-1795971600@shaw20fss.com
SUMMARY:Bowling & a Movie
DESCRIPTION:Join Shaw Lanes Bowling Center every Sunday in March from 2-5 PM for Bowling & a Movie\, a fun-filled afternoon of bowling and a movie! \nEach week features a different movie: \n\nMarch 2 – Wallace & Gromit: Vengeance Most Fowl (PG)\nMarch 9 – Sonic the Hedgehog 3 (PG)\nMarch 16 – Song of the Sea (PG)\nMarch 23 – Dune Pt. 2 (PG-13)\nMarch 30 – Who Framed Roger Rabbit (PG) (Classic Kid Movie Series)\n\nPrices may vary depending on the menu. \nFor more info\, call Shaw Lanes Bowling Center 803.895.2732. Don’t miss out on this perfect Sunday activity!
URL:https://shaw20fss.com/event/bowling-a-movie-4/2026-11-29/
LOCATION:Shaw Lanes Bowling Center\, 416 Recreation St.\, Shaw Air Force Base\, SC\, 29152\, United States
CATEGORIES:Bowling
ATTACH;FMTTYPE=image/png:https://shaw20fss.com/wp-content/uploads/2025/03/031ca152a89e274462f97cd55337a308.png
END:VEVENT
END:VCALENDAR